BEGIN:VCALENDAR
VERSION:2.0
PRODID:-//Swimming Australia/Event//EN
BEGIN:VEVENT
LOCATION:Launceston Aquatic Centre\, 18a High St\, Launceston
DESCRIPTION:
                    Sun\, 29/03/2020 to Sun\, 29/03/2020
            
                    Session 1: Warm up from 8am   Session 2: Warm up from 3pm
            
X-ALT-DESC:
                    <div class="field field--name-field-event-date-time field--type-daterange field--label-hidden field__item">Sun\, 29/03/2020 to Sun\, 29/03/2020</div>
            
                    <div class="field field--name-field-text field--type-string field--label-hidden field__item field__seconditem">Session 1: Warm up from 8am   Session 2: Warm up from 3pm</div>
            
DTSTART:20200328T210000Z
DTEND:20200329T070000Z
SUMMARY:2020 LC Regional Championships\, Launceston
URL;VALUE=URI:https://tas.swimming.org.au/events/2020-lc-regional-championships-launceston
DTSTAMP:20200227T112324Z
UID:5e57a6ac842528.50960989
END:VEVENT
END:VCALENDAR