BEGIN:VCALENDAR
VERSION:2.0
PRODID:-//Swimming Australia/Event//EN
BEGIN:VEVENT
LOCATION:Launceston Aquatic Centre\, 18a High St\, Launceston
DESCRIPTION:
                    Sat\, 25/07/2020 to Sat\, 25/07/2020
            
                    Warm up from 11:30am
            
X-ALT-DESC:
                    <div class="field field--name-field-event-date-time field--type-daterange field--label-hidden field__item">Sat\, 25/07/2020 to Sat\, 25/07/2020</div>
            
                    <div class="field field--name-field-text field--type-string field--label-hidden field__item field__seconditem">Warm up from 11:30am</div>
            
DTSTART:20200725T020000Z
DTEND:20200725T063000Z
SUMMARY:2020 South Esk Sprint Meet
URL;VALUE=URI:https://tas.swimming.org.au/events/2020-south-esk-sprint-meet
DTSTAMP:20200227T112619Z
UID:5e57a75bd74d06.42290685
END:VEVENT
END:VCALENDAR