BEGIN:VCALENDAR
VERSION:2.0
PRODID:-//Swimming Australia/Event//EN
BEGIN:VEVENT
LOCATION:Doone Kennedy Hobart Aquatic Centre\, 1 Davies Avenue Hobart
DESCRIPTION:
                    Sat\, 27/06/2020 to Sat\, 27/06/2020
            
                    Warm up from 8am and 3pm
            
X-ALT-DESC:
                    <div class="field field--name-field-event-date-time field--type-daterange field--label-hidden field__item">Sat\, 27/06/2020 to Sat\, 27/06/2020</div>
            
                    <div class="field field--name-field-text field--type-string field--label-hidden field__item field__seconditem">Warm up from 8am and 3pm</div>
            
DTSTART:20200626T223000Z
DTEND:20200627T083000Z
SUMMARY:2020 SC Regional Championships\, Hobart
URL;VALUE=URI:https://tas.swimming.org.au/events/2020-sc-regional-championships-hobart
DTSTAMP:20200227T112614Z
UID:5e57a7569fd272.17067912
END:VEVENT
END:VCALENDAR