BEGIN:VCALENDAR
VERSION:2.0
PRODID:-//Swimming Australia/Event//EN
BEGIN:VEVENT
LOCATION:Doone Kennedy Hobart Aquatic Centre\, 1 Domain Avenue\, Hobart
DESCRIPTION:
                    Sat\, 21/03/2020 to Sun\, 22/03/2020
            
X-ALT-DESC:
                    <div class="field field--name-field-event-date-time field--type-daterange field--label-hidden field__item">Sat\, 21/03/2020 to Sun\, 22/03/2020</div>
            
DTSTART:20200320T220000Z
DTEND:20200322T050000Z
SUMMARY:Development Squad Clinic 
URL;VALUE=URI:https://tas.swimming.org.au/events/development-squad-clinic-0
DTSTAMP:20200227T112512Z
UID:5e57a718b3c472.65837402
END:VEVENT
END:VCALENDAR