BEGIN:VCALENDAR
VERSION:2.0
PRODID:-//Swimming Australia/Event//EN
BEGIN:VEVENT
LOCATION:Doone Kennedy Hobart Aquatic Centre\, 1 Domain Avenue\, Hobart
DESCRIPTION:
                    Sat\, 13/06/2020 to Sat\, 13/06/2020
            
                    Warm up from 3pm
            
X-ALT-DESC:
                    <div class="field field--name-field-event-date-time field--type-daterange field--label-hidden field__item">Sat\, 13/06/2020 to Sat\, 13/06/2020</div>
            
                    <div class="field field--name-field-text field--type-string field--label-hidden field__item field__seconditem">Warm up from 3pm</div>
            
DTSTART:20200613T050000Z
DTEND:20200613T080000Z
SUMMARY:13 June 2020 SC Qualifying Trial\, Hobart
URL;VALUE=URI:https://tas.swimming.org.au/events/13-june-2020-sc-qualifying-trial-hobart
DTSTAMP:20200227T112601Z
UID:5e57a74970b722.96769592
END:VEVENT
END:VCALENDAR