BEGIN:VCALENDAR
VERSION:2.0
PRODID:-//Swimming Australia/Event//EN
BEGIN:VEVENT
LOCATION:Launceston Aquatic Centre\, 18A High St\, Launceston
DESCRIPTION:
                    Sat\, 02/05/2020 to Sat\, 02/05/2020
            
                    Warm up from 3pm
            
X-ALT-DESC:
                    <div class="field field--name-field-event-date-time field--type-daterange field--label-hidden field__item">Sat\, 02/05/2020 to Sat\, 02/05/2020</div>
            
                    <div class="field field--name-field-text field--type-string field--label-hidden field__item field__seconditem">Warm up from 3pm</div>
            
DTSTART:20200502T050000Z
DTEND:20200502T080000Z
SUMMARY:2 May 2020 SC Qualifying Trial\, Launceston
URL;VALUE=URI:https://tas.swimming.org.au/events/2-may-2020-sc-qualifying-trial-launceston
DTSTAMP:20200227T112523Z
UID:5e57a723e039e1.06877971
END:VEVENT
END:VCALENDAR